BEGIN:VCALENDAR
VERSION:2.0
PRODID:-//Indigenous Education Division - ECPv6.2.8.1//NONSGML v1.0//EN
CALSCALE:GREGORIAN
METHOD:PUBLISH
X-WR-CALNAME:Indigenous Education Division
X-ORIGINAL-URL:https://ied.sd61.bc.ca
X-WR-CALDESC:Events for Indigenous Education Division
REFRESH-INTERVAL;VALUE=DURATION:PT1H
X-Robots-Tag:noindex
X-PUBLISHED-TTL:PT1H
BEGIN:VTIMEZONE
TZID:America/Vancouver
BEGIN:DAYLIGHT
TZOFFSETFROM:-0800
TZOFFSETTO:-0700
TZNAME:PDT
DTSTART:20190310T100000
END:DAYLIGHT
BEGIN:STANDARD
TZOFFSETFROM:-0700
TZOFFSETTO:-0800
TZNAME:PST
DTSTART:20191103T090000
END:STANDARD
BEGIN:DAYLIGHT
TZOFFSETFROM:-0800
TZOFFSETTO:-0700
TZNAME:PDT
DTSTART:20200308T100000
END:DAYLIGHT
BEGIN:STANDARD
TZOFFSETFROM:-0700
TZOFFSETTO:-0800
TZNAME:PST
DTSTART:20201101T090000
END:STANDARD
END:VTIMEZONE
BEGIN:VEVENT
DTSTART;VALUE=DATE:20200518
DTEND;VALUE=DATE:20200519
DTSTAMP:20260423T170229
CREATED:20190822T164920Z
LAST-MODIFIED:20190822T164920Z
UID:4886-1589760000-1589846399@ied.sd61.bc.ca
SUMMARY:Victoria Day Holiday
DESCRIPTION:
URL:https://ied.sd61.bc.ca/event/victoria-day-holiday-2/
END:VEVENT
BEGIN:VEVENT
DTSTART;VALUE=DATE:20200515
DTEND;VALUE=DATE:20200516
DTSTAMP:20260423T170229
CREATED:20190730T172617Z
LAST-MODIFIED:20190730T172617Z
UID:4836-1589500800-1589587199@ied.sd61.bc.ca
SUMMARY:District ProD Day
DESCRIPTION:
URL:https://ied.sd61.bc.ca/event/district-prod-day-5/
END:VEVENT
BEGIN:VEVENT
DTSTART;VALUE=DATE:20200413
DTEND;VALUE=DATE:20200414
DTSTAMP:20260423T170229
CREATED:20190822T164853Z
LAST-MODIFIED:20190822T164853Z
UID:4884-1586736000-1586822399@ied.sd61.bc.ca
SUMMARY:Easter Monday Holiday
DESCRIPTION:
URL:https://ied.sd61.bc.ca/event/easter-monday-holiday-2/
END:VEVENT
BEGIN:VEVENT
DTSTART;VALUE=DATE:20200410
DTEND;VALUE=DATE:20200411
DTSTAMP:20260423T170229
CREATED:20190822T164819Z
LAST-MODIFIED:20190822T164819Z
UID:4882-1586476800-1586563199@ied.sd61.bc.ca
SUMMARY:Good Friday Holiday
DESCRIPTION:
URL:https://ied.sd61.bc.ca/event/good-friday-holiday-2/
END:VEVENT
BEGIN:VEVENT
DTSTART;VALUE=DATE:20200316
DTEND;VALUE=DATE:20200328
DTSTAMP:20260423T170229
CREATED:20190822T164639Z
LAST-MODIFIED:20190822T171457Z
UID:4880-1584316800-1585353599@ied.sd61.bc.ca
SUMMARY:Spring Break
DESCRIPTION:
URL:https://ied.sd61.bc.ca/event/spring-break-2/
END:VEVENT
BEGIN:VEVENT
DTSTART;VALUE=DATE:20200316
DTEND;VALUE=DATE:20200328
DTSTAMP:20260423T170229
CREATED:20190821T210546Z
LAST-MODIFIED:20190821T210546Z
UID:4877-1584316800-1585353599@ied.sd61.bc.ca
SUMMARY:
DESCRIPTION:Spring Break
URL:https://ied.sd61.bc.ca/event/4877/
END:VEVENT
BEGIN:VEVENT
DTSTART;VALUE=DATE:20200214
DTEND;VALUE=DATE:20200215
DTSTAMP:20260423T170229
CREATED:20190730T172548Z
LAST-MODIFIED:20190730T172548Z
UID:4834-1581638400-1581724799@ied.sd61.bc.ca
SUMMARY:District ProD Day
DESCRIPTION:
URL:https://ied.sd61.bc.ca/event/district-prod-day-4/
END:VEVENT
BEGIN:VEVENT
DTSTART;VALUE=DATE:20191223
DTEND;VALUE=DATE:20200104
DTSTAMP:20260423T170229
CREATED:20190124T221456Z
LAST-MODIFIED:20190124T221456Z
UID:2542-1577059200-1578095999@ied.sd61.bc.ca
SUMMARY:Winter Break
DESCRIPTION:
URL:https://ied.sd61.bc.ca/event/winter-break/
END:VEVENT
BEGIN:VEVENT
DTSTART;VALUE=DATE:20191128
DTEND;VALUE=DATE:20191201
DTSTAMP:20260423T170229
CREATED:20190724T220525Z
LAST-MODIFIED:20190724T220525Z
UID:4821-1574899200-1575158399@ied.sd61.bc.ca
SUMMARY:FNESC Conference\, Vancouver\, BC
DESCRIPTION:
URL:https://ied.sd61.bc.ca/event/fnesc-conference-vancouver-bc/
LOCATION:Westin Bayshore\, Vancouver\, BC\, Canada
END:VEVENT
BEGIN:VEVENT
DTSTART;VALUE=DATE:20191122
DTEND;VALUE=DATE:20191123
DTSTAMP:20260423T170229
CREATED:20190730T172524Z
LAST-MODIFIED:20190730T172524Z
UID:4832-1574380800-1574467199@ied.sd61.bc.ca
SUMMARY:District ProD Day
DESCRIPTION:
URL:https://ied.sd61.bc.ca/event/district-prod-day-3/
END:VEVENT
BEGIN:VEVENT
DTSTART;TZID=America/Vancouver:20191119T154500
DTEND;TZID=America/Vancouver:20191119T181500
DTSTAMP:20260423T170229
CREATED:20191003T151222Z
LAST-MODIFIED:20191003T151222Z
UID:4969-1574178300-1574187300@ied.sd61.bc.ca
SUMMARY:Indigenous Education Leadership Series
DESCRIPTION:
URL:https://ied.sd61.bc.ca/event/indigenous-education-leadership-series/
END:VEVENT
BEGIN:VEVENT
DTSTART;VALUE=DATE:20191111
DTEND;VALUE=DATE:20191112
DTSTAMP:20260423T170229
CREATED:20190124T221422Z
LAST-MODIFIED:20190124T221422Z
UID:2540-1573430400-1573516799@ied.sd61.bc.ca
SUMMARY:Remembrance Day
DESCRIPTION:
URL:https://ied.sd61.bc.ca/event/remembrance-day/
END:VEVENT
BEGIN:VEVENT
DTSTART;VALUE=DATE:20191025
DTEND;VALUE=DATE:20191026
DTSTAMP:20260423T170229
CREATED:20190730T172455Z
LAST-MODIFIED:20190730T172455Z
UID:4830-1571961600-1572047999@ied.sd61.bc.ca
SUMMARY:District ProD Day
DESCRIPTION:
URL:https://ied.sd61.bc.ca/event/district-prod-day-2/
END:VEVENT
BEGIN:VEVENT
DTSTART;VALUE=DATE:20191014
DTEND;VALUE=DATE:20191015
DTSTAMP:20260423T170229
CREATED:20190124T221358Z
LAST-MODIFIED:20190124T221358Z
UID:2538-1571011200-1571097599@ied.sd61.bc.ca
SUMMARY:Thanksgiving Holiday
DESCRIPTION:
URL:https://ied.sd61.bc.ca/event/thanksgiving-holiday/
END:VEVENT
BEGIN:VEVENT
DTSTART;VALUE=DATE:20190930
DTEND;VALUE=DATE:20191001
DTSTAMP:20260423T170229
CREATED:20190124T221331Z
LAST-MODIFIED:20190124T221331Z
UID:2536-1569801600-1569887999@ied.sd61.bc.ca
SUMMARY:Orange Shirt Day
DESCRIPTION:
URL:https://ied.sd61.bc.ca/event/orange-shirt-day/
END:VEVENT
BEGIN:VEVENT
DTSTART;VALUE=DATE:20190923
DTEND;VALUE=DATE:20190924
DTSTAMP:20260423T170229
CREATED:20190730T172320Z
LAST-MODIFIED:20190730T172320Z
UID:4828-1569196800-1569283199@ied.sd61.bc.ca
SUMMARY:District ProD Day
DESCRIPTION:
URL:https://ied.sd61.bc.ca/event/district-prod-day/
END:VEVENT
BEGIN:VEVENT
DTSTART;TZID=America/Vancouver:20190903T080000
DTEND;TZID=America/Vancouver:20190903T170000
DTSTAMP:20260423T170229
CREATED:20190124T221238Z
LAST-MODIFIED:20190124T221238Z
UID:2534-1567497600-1567530000@ied.sd61.bc.ca
SUMMARY:First Day of School
DESCRIPTION:
URL:https://ied.sd61.bc.ca/event/first-day-of-school/
END:VEVENT
BEGIN:VEVENT
DTSTART;TZID=America/Vancouver:20190902T080000
DTEND;TZID=America/Vancouver:20190902T170000
DTSTAMP:20260423T170229
CREATED:20190124T221219Z
LAST-MODIFIED:20190124T221219Z
UID:2532-1567411200-1567443600@ied.sd61.bc.ca
SUMMARY:Labour Day Holiday
DESCRIPTION:
URL:https://ied.sd61.bc.ca/event/labour-day-holiday/
END:VEVENT
BEGIN:VEVENT
DTSTART;TZID=America/Vancouver:20190805T080000
DTEND;TZID=America/Vancouver:20190805T170000
DTSTAMP:20260423T170229
CREATED:20190124T221031Z
LAST-MODIFIED:20190124T221114Z
UID:2530-1564992000-1565024400@ied.sd61.bc.ca
SUMMARY:B.C. Day Holiday
DESCRIPTION:
URL:https://ied.sd61.bc.ca/event/b-c-day-holiday/
END:VEVENT
BEGIN:VEVENT
DTSTART;TZID=America/Vancouver:20190701T080000
DTEND;TZID=America/Vancouver:20190701T170000
DTSTAMP:20260423T170229
CREATED:20190124T221002Z
LAST-MODIFIED:20190124T221002Z
UID:2528-1561968000-1562000400@ied.sd61.bc.ca
SUMMARY:Canada Day Holiday
DESCRIPTION:
URL:https://ied.sd61.bc.ca/event/canada-day-holiday/
END:VEVENT
BEGIN:VEVENT
DTSTART;TZID=America/Vancouver:20190621T080000
DTEND;TZID=America/Vancouver:20190621T170000
DTSTAMP:20260423T170229
CREATED:20190124T220836Z
LAST-MODIFIED:20190124T220836Z
UID:2526-1561104000-1561136400@ied.sd61.bc.ca
SUMMARY:National Aboriginal Day
DESCRIPTION:
URL:https://ied.sd61.bc.ca/event/national-aboriginal-day/
END:VEVENT
BEGIN:VEVENT
DTSTART;TZID=America/Vancouver:20190530T173000
DTEND;TZID=America/Vancouver:20190530T213000
DTSTAMP:20260423T170229
CREATED:20190108T225638Z
LAST-MODIFIED:20190108T225638Z
UID:1597-1559237400-1559251800@ied.sd61.bc.ca
SUMMARY:ANED Graduation Ceremony
DESCRIPTION:
URL:https://ied.sd61.bc.ca/event/aned-graduation-ceremony/
LOCATION:Songhees Wellness Centre\, 1100 Admirals Rd\, Victoria\, BC\, Canada
END:VEVENT
BEGIN:VEVENT
DTSTART;TZID=America/Vancouver:20190520T080000
DTEND;TZID=America/Vancouver:20190520T170000
DTSTAMP:20260423T170229
CREATED:20190124T220728Z
LAST-MODIFIED:20190124T220728Z
UID:2524-1558339200-1558371600@ied.sd61.bc.ca
SUMMARY:Victoria Day Holiday
DESCRIPTION:
URL:https://ied.sd61.bc.ca/event/victoria-day-holiday/
END:VEVENT
BEGIN:VEVENT
DTSTART;TZID=America/Vancouver:20190517T080000
DTEND;TZID=America/Vancouver:20190517T170000
DTSTAMP:20260423T170229
CREATED:20190124T220707Z
LAST-MODIFIED:20190124T220707Z
UID:2522-1558080000-1558112400@ied.sd61.bc.ca
SUMMARY:Pro D Day
DESCRIPTION:
URL:https://ied.sd61.bc.ca/event/pro-d-day-3/
END:VEVENT
BEGIN:VEVENT
DTSTART;TZID=America/Vancouver:20190422T080000
DTEND;TZID=America/Vancouver:20190422T170000
DTSTAMP:20260423T170229
CREATED:20190124T220645Z
LAST-MODIFIED:20190124T220645Z
UID:2520-1555920000-1555952400@ied.sd61.bc.ca
SUMMARY:Easter Monday Holiday
DESCRIPTION:
URL:https://ied.sd61.bc.ca/event/easter-monday-holiday/
END:VEVENT
BEGIN:VEVENT
DTSTART;TZID=America/Vancouver:20190419T080000
DTEND;TZID=America/Vancouver:20190419T170000
DTSTAMP:20260423T170229
CREATED:20190124T220615Z
LAST-MODIFIED:20190124T220615Z
UID:2518-1555660800-1555693200@ied.sd61.bc.ca
SUMMARY:Good Friday Holiday
DESCRIPTION:
URL:https://ied.sd61.bc.ca/event/good-friday-holiday/
END:VEVENT
BEGIN:VEVENT
DTSTART;TZID=America/Vancouver:20190412T080000
DTEND;TZID=America/Vancouver:20190412T170000
DTSTAMP:20260423T170229
CREATED:20190124T220553Z
LAST-MODIFIED:20190124T220553Z
UID:2516-1555056000-1555088400@ied.sd61.bc.ca
SUMMARY:Pro D Day
DESCRIPTION:
URL:https://ied.sd61.bc.ca/event/pro-d-day-2/
END:VEVENT
BEGIN:VEVENT
DTSTART;TZID=America/Vancouver:20190318T080000
DTEND;TZID=America/Vancouver:20190329T170000
DTSTAMP:20260423T170229
CREATED:20190124T220447Z
LAST-MODIFIED:20190124T220447Z
UID:2514-1552896000-1553878800@ied.sd61.bc.ca
SUMMARY:Spring Break
DESCRIPTION:
URL:https://ied.sd61.bc.ca/event/spring-break/
END:VEVENT
BEGIN:VEVENT
DTSTART;TZID=America/Vancouver:20190218T080000
DTEND;TZID=America/Vancouver:20190218T170000
DTSTAMP:20260423T170229
CREATED:20190124T220200Z
LAST-MODIFIED:20190124T220200Z
UID:2512-1550476800-1550509200@ied.sd61.bc.ca
SUMMARY:Family Day Holiday
DESCRIPTION:
URL:https://ied.sd61.bc.ca/event/family-day-holiday/
END:VEVENT
BEGIN:VEVENT
DTSTART;TZID=America/Vancouver:20190215T080000
DTEND;TZID=America/Vancouver:20190215T170000
DTSTAMP:20260423T170229
CREATED:20190124T220135Z
LAST-MODIFIED:20190124T220135Z
UID:2510-1550217600-1550250000@ied.sd61.bc.ca
SUMMARY:Pro D Day
DESCRIPTION:
URL:https://ied.sd61.bc.ca/event/pro-d-day/
END:VEVENT
END:VCALENDAR